BEGIN:VCALENDAR
VERSION:2.0
PRODID:spatie/icalendar-generator
DESCRIPTION:Veranstaltungen von Andrea Engler
X-WR-CALDESC:Veranstaltungen von Andrea Engler
REFRESH-INTERVAL;VALUE=DURATION:PT1440M
X-PUBLISHED-TTL:PT1440M
BEGIN:VTIMEZONE
TZID:Europe/Berlin
BEGIN:DAYLIGHT
DTSTART:20260329T020000Z
TZOFFSETFROM:+0100
TZOFFSETTO:+0200
END:DAYLIGHT
BEGIN:STANDARD
DTSTART:20261025T030000Z
TZOFFSETFROM:+0200
TZOFFSETTO:+0100
END:STANDARD
END:VTIMEZONE
BEGIN:VTIMEZONE
TZID:UTC
BEGIN:STANDARD
DTSTART:20250729T035652Z
TZOFFSETFROM:+0000
TZOFFSETTO:+0000
END:STANDARD
END:VTIMEZONE
BEGIN:VEVENT
UID:200-100
DTSTAMP:20260425T035652Z
SUMMARY:Genusswege Buchholz - Geführte Weinwanderungen
LOCATION:
ORGANIZER;CN=Andrea:MAILTO:weinerlebnis.andrea.schlenk@gmail.de
DTSTART;TZID=Europe/Berlin:20260829T140000
DTEND;TZID=Europe/Berlin:20260829T180000
X-ALT-DESC;FMTTYPE=TEXT/HTML:Geführte Wanderung auf einem Teilstück des n
 euen Wein- und Obstgenussweg in Waldkirch-Buchholz. Wir treffen uns zum Se
 ktempfang um 14.00 Uhr an der Ortsverwaltung Buchholz (Ortsmitte) und wand
 ern den Weingenussweg entlang. Dazwischen werde ich fünf Weine der Buchho
 lzer Winzerbetriebe vorstellen. In der Hälfte des Weges verkosten wir mit
  wunderbarem Panoramablick unser Picknickkorb (auch in vegetarischer Varia
 nte).&amp;hellip\;
CATEGORIES:Veranstaltungen
URL;VALUE=URI:https://weinwandern-emmendingen.de/mc-events/genusswege-buchh
 olz-gefuehrte-weinwanderungen-3
METHOD:PUBLISH
END:VEVENT
END:VCALENDAR